BEGIN:VCALENDAR
VERSION:2.0
PRODID:icalendar-ruby
CALSCALE:GREGORIAN
METHOD:PUBLISH
BEGIN:VEVENT
DTSTAMP:20260424T133926Z
UID:5-403012@prayerlinkfl.tithelysetup5.com
DTSTART:20261101T153000Z
DTEND:20261101T163000Z
CLASS:PUBLIC
CREATED:20260424T083248
DESCRIPTION:Sunday Worship
LAST-MODIFIED:20260424T083248
LOCATION:
SUMMARY:Sunday Worship
URL;VALUE=URI:https://prayerlink.us/events/sunday-worship/2026-11-01
END:VEVENT
END:VCALENDAR
